BEGIN:VCALENDAR
VERSION:2.0
PRODID:-//hacksw/handcal//NONSGML v1.0//EN
BEGIN:VEVENT
SUMMARY:Championnat veterans
UID:8fb3d274-30e2-4a71-8a6b-181c96629e96
DTSTART:20260405T080000Z
DTEND:20260405T100000Z
LOCATION:Localisation Stade de Kersabiec 56100 Lorient
CATEGORIES:Sportif
STATUS:
URL;VALUE=URI:https://www.essor-foot56.com/evenements/2026/04/05/championnat-veterans-2435683
END:VEVENT
END:VCALENDAR
