BEGIN:VCALENDAR
VERSION:2.0
PRODID:-//hacksw/handcal//NONSGML v1.0//EN
BEGIN:VEVENT
SUMMARY:Championnat futsal
UID:269f3d44-d5b3-4c9f-9b64-cbb1b47ca262
DTSTART:20260409T190000Z
DTEND:20260409T203000Z
LOCATION:Localisation Salle omnisports des Remparts 56290 Port-Louis
CATEGORIES:Sportif
STATUS:
URL;VALUE=URI:https://www.essor-foot56.com/evenements/2026/04/09/championnat-futsal-2438593
END:VEVENT
END:VCALENDAR
