BEGIN:VCALENDAR
VERSION:2.0
PRODID:-//hacksw/handcal//NONSGML v1.0//EN
BEGIN:VEVENT
SUMMARY:Concours de petanque
UID:928830c4-26e7-4a11-934f-87df27a55b96
DTSTART:20260411T113000Z
DTEND:20260411T180000Z
LOCATION:Localisation Terrain des Patis 56290 Port-Louis
CATEGORIES:Sportif
STATUS:
URL;VALUE=URI:https://www.essor-foot56.com/evenements/2026/04/11/concours-de-petanque-2437622
END:VEVENT
END:VCALENDAR
