BEGIN:VCALENDAR
VERSION:2.0
PRODID:-//hacksw/handcal//NONSGML v1.0//EN
BEGIN:VEVENT
SUMMARY:Championnat seniors D2
UID:d2c1e0bb-dc53-4335-8bfa-083abf499f85
DTSTART:20260412T133000Z
DTEND:20260412T153000Z
LOCATION:Localisation Stade municipal Emmanuel Le Visage 56570 Locmiquelic
CATEGORIES:Sportif
STATUS:
URL;VALUE=URI:https://www.essor-foot56.com/evenements/2026/04/12/championnat-seniors-d2-2438599
END:VEVENT
END:VCALENDAR
