BEGIN:VCALENDAR
VERSION:2.0
PRODID:-//hacksw/handcal//NONSGML v1.0//EN
BEGIN:VEVENT
SUMMARY:Championnat veterans
UID:b0d3bc54-9a29-4baf-920c-49a219d0e29f
DTSTART:20260412T080000Z
DTEND:20260412T100000Z
LOCATION:Localisation Stade du driasker 56290 Port-Louis
CATEGORIES:Sportif
STATUS:
URL;VALUE=URI:https://www.essor-foot56.com/evenements/2026/04/12/championnat-veterans-2438596
END:VEVENT
END:VCALENDAR
